
BEGIN:VCALENDAR
VERSION:2.0
PRODID:-//Junges Salzburg Süd - ECPv6.0.13.1//NONSGML v1.0//EN
CALSCALE:GREGORIAN
METHOD:PUBLISH
X-WR-CALNAME:Junges Salzburg Süd
X-ORIGINAL-URL:https://www.junges-salzburg.at
X-WR-CALDESC:Veranstaltungen für Junges Salzburg Süd
REFRESH-INTERVAL;VALUE=DURATION:PT1H
X-Robots-Tag:noindex
X-PUBLISHED-TTL:PT1H
BEGIN:VTIMEZONE
TZID:Europe/Helsinki
BEGIN:DAYLIGHT
TZOFFSETFROM:+0200
TZOFFSETTO:+0300
TZNAME:EEST
DTSTART:20230326T010000
END:DAYLIGHT
BEGIN:STANDARD
TZOFFSETFROM:+0300
TZOFFSETTO:+0200
TZNAME:EET
DTSTART:20231029T010000
END:STANDARD
BEGIN:DAYLIGHT
TZOFFSETFROM:+0200
TZOFFSETTO:+0300
TZNAME:EEST
DTSTART:20240331T010000
END:DAYLIGHT
BEGIN:STANDARD
TZOFFSETFROM:+0300
TZOFFSETTO:+0200
TZNAME:EET
DTSTART:20241027T010000
END:STANDARD
END:VTIMEZONE
BEGIN:VEVENT
DTSTART;VALUE=DATE:20240212
DTEND;VALUE=DATE:20240217
DTSTAMP:20260422T210652
CREATED:20231031T082255Z
LAST-MODIFIED:20231031T082255Z
UID:19218-1707696000-1708127999@www.junges-salzburg.at
SUMMARY:12.2.-16.2.2024: Semesterferienprogramm
DESCRIPTION:Liebe Eltern\, \nFalls Sie für Ihr Kind noch eine Ferienbetreuung in den Semesterferien  (12. – 16. Februar) suchen\, möchten wir Sie auf unser Programm auf der Insel aufmerksam machen. Diese Woche steht ganz im Zeichen des Spielens. Bei sportlichen\, kreativen und spaßigen Angeboten von Montag bis Freitag – können Kinder die Ferien so richtig genießen. Die Betreuungszeiten sind jeweils von 8.00 Uhr bis 17.00 Uhr (sie können Ihr Kinder aber jederzeit abholen). \nIn der Ferien-Wochenpauschale sind enthalten: Mittagessen bestehend aus Suppe\, Salatbuffet\, Hauptspeise und Nachspeise sowie ein vielfältiges Betreuungsangebot. Es ist auch möglich\, einzelne Tage zu buchen. Das Angebot richtet sich an Kinder zwischen 6 und 15 Jahren. \nAnmeldeformular auf unserer Homepage www.inselsalzburg.at ab November.  \nAnmeldung bis zum 5.2.2024 \nWir freuen uns auf Ihre Kinder!
URL:https://www.junges-salzburg.at/termin/12-2-16-2-2024-semesterferienprogramm/
LOCATION:Insel – Haus der Jugend\, Franz-Hinterholzerkai 8\, Salzburg\, Salzburg\, 5020\, Österreich
CATEGORIES:10-12 Jahre,12-14 Jahre,14-16 Jahre,6-8 Jahre,8-10 Jahre,Kreativität,Natur,Outdoor,Spiele,Sport
ATTACH;FMTTYPE=image/jpeg:https://www.junges-salzburg.at/wp-content/uploads/2023/09/©-pressfoto-Freepik-Kinder-scaled.jpg
ORGANIZER;CN="Insel%20-%20Haus%20der%20Jugend":MAILTO:direktion@inselsalzburg.at
END:VEVENT
BEGIN:VEVENT
DTSTART;TZID=Europe/Helsinki:20231214T140000
DTEND;TZID=Europe/Helsinki:20231214T170000
DTSTAMP:20260422T210652
CREATED:20231031T081753Z
LAST-MODIFIED:20231031T081917Z
UID:19216-1702562400-1702573200@www.junges-salzburg.at
SUMMARY:Winterzauber in der Insel
DESCRIPTION:Stimmen Sie sich auf die festliche Jahreszeit ein! Genießen Sie weihnachtliche Leckereien\, handgefertigte Geschenke und eine besinnliche Atmosphäre. Der Adventsbazar bietet eine großartige Gelegenheit\, sich auf Weihnachten wirklich einzustimmen\, da es voller Kinder mit Weihnachtsvorfreude wuselt. Die Insel-Stimmung ist zauberhaft und für alt und jung ein Erlebnis. Unsere Kinder arbeiten Weihnachtselfengleich beim Verkauf mit und freuen sich auf Ihr Kommen!
URL:https://www.junges-salzburg.at/termin/winterzauber-in-der-insel/
LOCATION:Insel – Haus der Jugend\, Franz-Hinterholzerkai 8\, Salzburg\, Salzburg\, 5020\, Österreich
CATEGORIES:Alle Altergruppen,Familien
ATTACH;FMTTYPE=image/jpeg:https://www.junges-salzburg.at/wp-content/uploads/2023/09/©-pressfoto-Freepik-Kinder-scaled.jpg
ORGANIZER;CN="Insel%20-%20Haus%20der%20Jugend":MAILTO:direktion@inselsalzburg.at
END:VEVENT
BEGIN:VEVENT
DTSTART;TZID=Europe/Helsinki:20231130T150000
DTEND;TZID=Europe/Helsinki:20231130T170000
DTSTAMP:20260422T210652
CREATED:20231031T081438Z
LAST-MODIFIED:20231031T081438Z
UID:19214-1701356400-1701363600@www.junges-salzburg.at
SUMMARY:Insel - Tag der offenen Tür
DESCRIPTION:Entdecken Sie die Insel und erleben Sie eine spannende Tour durch unser vielfältiges pädagogisches Programm. Es erwarten Sie unterhaltsame Aktivitäten für Ihre Kinder und die Möglichkeit\, unser engagiertes Team kennenzulernen. Finden Sie heraus\, warum Die Insel der perfekte Ort für das Heranwachsen und die Entwicklung Ihres Kindes ist.
URL:https://www.junges-salzburg.at/termin/insel-tag-der-offenen-tuer/
LOCATION:Insel – Haus der Jugend\, Franz-Hinterholzerkai 8\, Salzburg\, Salzburg\, 5020\, Österreich
CATEGORIES:Alle Altergruppen,Familien,Führung,Gratis
ATTACH;FMTTYPE=image/jpeg:https://www.junges-salzburg.at/wp-content/uploads/2023/09/©-pressfoto-Freepik-Kinder-scaled.jpg
ORGANIZER;CN="Insel%20-%20Haus%20der%20Jugend":MAILTO:direktion@inselsalzburg.at
END:VEVENT
BEGIN:VEVENT
DTSTART;TZID=Europe/Helsinki:20230929T100000
DTEND;TZID=Europe/Helsinki:20230929T160000
DTSTAMP:20260422T210652
CREATED:20220802T071914Z
LAST-MODIFIED:20230926T072153Z
UID:18556-1695981600-1696003200@www.junges-salzburg.at
SUMMARY:Fest zum Weltkindertag
DESCRIPTION:Am Weltkindertag seid ihr alle herzlich eingeladen\, zu uns auf die Insel zu kommen. Dort dreht sich wie immer alles um Kinder – und an diesem Tag besonders um Kinderrechte. \nViele Institutionen\, wie der Zoo\, Red Bull\, die Polizei\, Jugendrotkreuz\, Rainbows\, Kompass etc.\, kommen schon seit Jahren und bieten Stationen bei denen gespielt\, gerätselt\, gebaut\, gelernt\, gestaunt und genossen werden kann. Packt eure Freunde ein und lasst euch überraschen\, welche Action heuer angeboten wird! \nDie Teilnahme an dem Fest ist für alle kostenlos\, gerne kann man sich an unserem selbst gekochten Buffet etwas kaufen (hierzu bitte den Kindern ein Taschengeld mitgeben).
URL:https://www.junges-salzburg.at/termin/weltkindertag/
LOCATION:Insel – Haus der Jugend\, Franz-Hinterholzerkai 8\, Salzburg\, Salzburg\, 5020\, Österreich
CATEGORIES:10-12 Jahre,12-14 Jahre,6-8 Jahre,8-10 Jahre,Kreativität,Spiele,Sport
ATTACH;FMTTYPE=image/png:https://www.junges-salzburg.at/wp-content/uploads/2022/08/kinderkreis1-300x294-1.png
ORGANIZER;CN="Insel%20-%20Haus%20der%20Jugend":MAILTO:direktion@inselsalzburg.at
END:VEVENT
BEGIN:VEVENT
DTSTART;VALUE=DATE:20230213
DTEND;VALUE=DATE:20230218
DTSTAMP:20260422T210652
CREATED:20230113T135606Z
LAST-MODIFIED:20230203T104436Z
UID:18708-1676246400-1676678399@www.junges-salzburg.at
SUMMARY:Semesterferien Betreuung
DESCRIPTION:Liebe Eltern\, \nFalls Sie für Ihr Kind noch eine Ferienbetreuung in den Semesterferien  (13. – 17. Februar) suchen\, möchten wir Sie auf unser Programm auf der Insel aufmerksam machen. Diese Woche steht ganz im Zeichen des Spielens. Bei sportlichen\, kreativen und spaßigen Angeboten von Montag bis Freitag – jeweils von 8.00 Uhr bis 17.00 Uhr – können Kinder die Ferien so richtig genießen. \nDer Wochenpauschalbetrag beträgt 110 € (darin enthalten: Mittagessen bestehend aus Suppe\, Salatbuffet\, Hauptspeise und Nachspeise). Es ist auch möglich\, einzelne Tage zu einem Beitrag von 35 € zu buchen. Das Angebot richtet sich an Kinder zwischen 6 und 15 Jahren. \nAnmeldelink: Semesterferien \nAnmeldung bis zum 7.2.2023 \nWir freuen uns auf Ihre Kinder und dass wir Sie vielleicht etwas entlasten können.
URL:https://www.junges-salzburg.at/termin/semesterferien-betreuung/
LOCATION:Insel – Haus der Jugend\, Franz-Hinterholzerkai 8\, Salzburg\, Salzburg\, 5020\, Österreich
CATEGORIES:10-12 Jahre,12-14 Jahre,6-8 Jahre,8-10 Jahre,Kreativität,Spiele,Sport
ATTACH;FMTTYPE=image/jpeg:https://www.junges-salzburg.at/wp-content/uploads/2022/06/Kreativitaet-1-scaled.jpg
ORGANIZER;CN="Insel%20-%20Haus%20der%20Jugend":MAILTO:direktion@inselsalzburg.at
END:VEVENT
END:VCALENDAR