
BEGIN:VCALENDAR
VERSION:2.0
PRODID:-//Junges Salzburg Süd - ECPv6.0.13.1//NONSGML v1.0//EN
CALSCALE:GREGORIAN
METHOD:PUBLISH
X-WR-CALNAME:Junges Salzburg Süd
X-ORIGINAL-URL:https://www.junges-salzburg.at
X-WR-CALDESC:Veranstaltungen für Junges Salzburg Süd
REFRESH-INTERVAL;VALUE=DURATION:PT1H
X-Robots-Tag:noindex
X-PUBLISHED-TTL:PT1H
BEGIN:VTIMEZONE
TZID:Europe/Helsinki
BEGIN:DAYLIGHT
TZOFFSETFROM:+0200
TZOFFSETTO:+0300
TZNAME:EEST
DTSTART:20220327T010000
END:DAYLIGHT
BEGIN:STANDARD
TZOFFSETFROM:+0300
TZOFFSETTO:+0200
TZNAME:EET
DTSTART:20221030T010000
END:STANDARD
END:VTIMEZONE
BEGIN:VEVENT
DTSTART;TZID=Europe/Helsinki:20221017T170000
DTEND;TZID=Europe/Helsinki:20221017T210000
DTSTAMP:20260424T120328
CREATED:20220930T115646Z
LAST-MODIFIED:20220930T121233Z
UID:18675-1666026000-1666040400@www.junges-salzburg.at
SUMMARY:Einsteigerkurs Radl-Reparieren mit Veloserv
DESCRIPTION:Am 17. Oktober findet am Bienenhof Salzburg ein Einsteigerkurs zum Thema Fahrrad-Reparatur statt. Durchgeführt wird der Kurs von Veloserv\, der mobilen Fahrradwerkstatt in Salzburg. Veloserv ist in der ganzen Stadt unterwegs und repariert Fahrräder direkt vor Ort. Dieses Mal sind sie am Bienenhof zu Gast und geben ihr Wissen weiter. Der Kurs fängt inhaltlich ganz von vorn an und richtet sich gezielt an Alltagsradfahrer ohne technische Vorkenntnisse. \nDer Einsteigerkurs beinhaltet: \n\nPatschen reparieren\nFahrrad aufpumpen & Luftdruck kontrollieren\nKette ölen\nKettenriss reparieren\nWie mache ich einen Sicherheits-Check?
URL:https://www.junges-salzburg.at/termin/einsteigerkurs-radl-reparieren-mit-veloserv/
LOCATION:Bienenhof Salzburg\, Membergerstraße 1\, Salzburg\, S\, 5020\, Österreich
CATEGORIES:ab 16 Jahren,Fahrrad,Reparatur,Workshop
ATTACH;FMTTYPE=image/jpeg:https://www.junges-salzburg.at/wp-content/uploads/2022/09/Radservice-16zu9.jpg
ORGANIZER;CN="Veloserv":MAILTO:info@veloserv.at
END:VEVENT
END:VCALENDAR