
BEGIN:VCALENDAR
VERSION:2.0
PRODID:-//Junges Salzburg Süd - ECPv6.0.13.1//NONSGML v1.0//EN
CALSCALE:GREGORIAN
METHOD:PUBLISH
X-WR-CALNAME:Junges Salzburg Süd
X-ORIGINAL-URL:https://www.junges-salzburg.at
X-WR-CALDESC:Veranstaltungen für Junges Salzburg Süd
REFRESH-INTERVAL;VALUE=DURATION:PT1H
X-Robots-Tag:noindex
X-PUBLISHED-TTL:PT1H
BEGIN:VTIMEZONE
TZID:Europe/Helsinki
BEGIN:DAYLIGHT
TZOFFSETFROM:+0200
TZOFFSETTO:+0300
TZNAME:EEST
DTSTART:20220327T010000
END:DAYLIGHT
BEGIN:STANDARD
TZOFFSETFROM:+0300
TZOFFSETTO:+0200
TZNAME:EET
DTSTART:20221030T010000
END:STANDARD
END:VTIMEZONE
BEGIN:VEVENT
DTSTART;TZID=Europe/Helsinki:20220808T140000
DTEND;TZID=Europe/Helsinki:20220808T180000
DTSTAMP:20260424T150621
CREATED:20220627T083851Z
LAST-MODIFIED:20220824T190222Z
UID:18420-1659967200-1659981600@www.junges-salzburg.at
SUMMARY:Radservice am Bienenhof
DESCRIPTION:Bernhard von VELOSERV ist am Bienenhof\, um dein Fahrrad zu reparieren und durchzuchecken. Zahle\, was du kannst!\nMehr Infos: www.veloserv.at
URL:https://www.junges-salzburg.at/termin/radservice-am-bienenhof-3/2022-08-08/
LOCATION:Bienenhof Salzburg\, Membergerstraße 1\, Salzburg\, S\, 5020\, Österreich
CATEGORIES:Alle Altergruppen,Fahrrad,Familien,Reparatur
ATTACH;FMTTYPE=image/jpeg:https://www.junges-salzburg.at/wp-content/uploads/2022/06/Radservice-scaled.jpg
ORGANIZER;CN="Bienenlieb%20gem.V.":MAILTO:info@bienenlieb.at
END:VEVENT
BEGIN:VEVENT
DTSTART;TZID=Europe/Helsinki:20220827T100000
DTEND;TZID=Europe/Helsinki:20220827T140000
DTSTAMP:20260424T150621
CREATED:20220627T083926Z
LAST-MODIFIED:20220930T114923Z
UID:18421-1661594400-1661608800@www.junges-salzburg.at
SUMMARY:Radservice am Bienenhof
DESCRIPTION:Bernhard von VELOSERV ist am Bienenhof\, um dein Fahrrad zu reparieren und durchzuchecken. Zahle\, was du kannst!\nMehr Infos: www.veloserv.at
URL:https://www.junges-salzburg.at/termin/radservice-am-bienenhof-4/
LOCATION:Bienenhof Salzburg\, Membergerstraße 1\, Salzburg\, S\, 5020\, Österreich
CATEGORIES:Alle Altergruppen,Fahrrad,Familien,Reparatur
ATTACH;FMTTYPE=image/jpeg:https://www.junges-salzburg.at/wp-content/uploads/2022/06/Radservice-scaled.jpg
ORGANIZER;CN="Bienenlieb%20gem.V.":MAILTO:info@bienenlieb.at
END:VEVENT
END:VCALENDAR